Package: DeepTarget Version: 1.0.0 Command: /home/biocbuild/bbs-3.20-bioc/R/bin/R CMD INSTALL DeepTarget StartedAt: 2025-01-30 15:59:33 -0500 (Thu, 30 Jan 2025) EndedAt: 2025-01-30 15:59:53 -0500 (Thu, 30 Jan 2025) EllapsedTime: 19.6 seconds RetCode: 0 Status: OK