Package: DeepTarget Version: 1.0.0 Command: rm -rf DeepTarget.buildbin-libdir && mkdir DeepTarget.buildbin-libdir && F:\biocbuild\bbs-3.20-bioc\R\bin\R.exe CMD INSTALL --build --library=DeepTarget.buildbin-libdir DeepTarget_1.0.0.tar.gz StartedAt: 2025-01-31 08:30:36 -0500 (Fri, 31 Jan 2025) EndedAt: 2025-01-31 08:31:07 -0500 (Fri, 31 Jan 2025) EllapsedTime: 31.7 seconds RetCode: 0 Status: OK PackageFile: DeepTarget_1.0.0.zip PackageFileSize: 2.383 MiB