Package: DeepTarget Version: 1.0.0 Command: chmod a+r DeepTarget -R && F:\biocbuild\bbs-3.20-bioc\R\bin\R.exe CMD build --keep-empty-dirs --no-resave-data DeepTarget StartedAt: 2025-02-03 18:34:17 -0500 (Mon, 03 Feb 2025) EndedAt: 2025-02-03 18:35:37 -0500 (Mon, 03 Feb 2025) EllapsedTime: 79.6 seconds RetCode: 0 Status: OK PackageFile: DeepTarget_1.0.0.tar.gz PackageFileSize: 2.338 MiB