Package: DeepTarget Version: 1.0.0 Command: /home/biocbuild/R/R/bin/R CMD build --keep-empty-dirs --no-resave-data DeepTarget StartedAt: 2025-02-03 23:04:37 -0000 (Mon, 03 Feb 2025) EndedAt: 2025-02-03 23:05:33 -0000 (Mon, 03 Feb 2025) EllapsedTime: 56.0 seconds RetCode: 0 Status: OK PackageFile: DeepTarget_1.0.0.tar.gz PackageFileSize: 2.379 MiB