Package: DeepTarget Version: 1.0.0 Command: /home/biocbuild/R/R/bin/R CMD check --install=check:DeepTarget.install-out.txt --library=/home/biocbuild/R/R/site-library --no-vignettes --timings DeepTarget_1.0.0.tar.gz StartedAt: 2025-02-04 06:14:49 -0000 (Tue, 04 Feb 2025) EndedAt: 2025-02-04 06:19:14 -0000 (Tue, 04 Feb 2025) EllapsedTime: 264.2 seconds RetCode: 0 Status: OK CheckDir: DeepTarget.Rcheck Warnings: 0