Package: DegNorm Version: 1.16.0 Command: /Library/Frameworks/R.framework/Resources/bin/R CMD build --keep-empty-dirs --no-resave-data DegNorm StartedAt: 2025-02-10 22:22:28 -0500 (Mon, 10 Feb 2025) EndedAt: 2025-02-10 22:28:04 -0500 (Mon, 10 Feb 2025) EllapsedTime: 335.6 seconds RetCode: 0 Status: OK PackageFile: DegNorm_1.16.0.tar.gz PackageFileSize: 3.399 MiB