Package: DegNorm Version: 1.16.0 Command: rm -rf DegNorm.buildbin-libdir && mkdir DegNorm.buildbin-libdir && /Users/biocbuild/BBS/utils/build-universal.sh DegNorm_1.16.0.tar.gz /Library/Frameworks/R.framework/Resources/bin/R DegNorm.buildbin-libdir StartedAt: 2025-02-04 12:47:48 -0500 (Tue, 04 Feb 2025) EndedAt: 2025-02-04 12:49:47 -0500 (Tue, 04 Feb 2025) EllapsedTime: 118.8 seconds RetCode: 0 Status: OK PackageFile: DegNorm_1.16.0.tgz PackageFileSize: 3.254 MiB