Package: DegNorm Version: 1.16.0 Command: /home/biocbuild/bbs-3.20-bioc/R/bin/R CMD check --install=check:DegNorm.install-out.txt --library=/home/biocbuild/bbs-3.20-bioc/R/site-library --timings DegNorm_1.16.0.tar.gz StartedAt: 2025-02-03 21:38:59 -0500 (Mon, 03 Feb 2025) EndedAt: 2025-02-03 21:49:47 -0500 (Mon, 03 Feb 2025) EllapsedTime: 648.6 seconds RetCode: 0 Status: OK CheckDir: DegNorm.Rcheck Warnings: 0