Package: DegNorm Version: 1.16.0 Command: /home/biocbuild/bbs-3.20-bioc/R/bin/R CMD INSTALL DegNorm StartedAt: 2025-02-03 16:00:06 -0500 (Mon, 03 Feb 2025) EndedAt: 2025-02-03 16:01:06 -0500 (Mon, 03 Feb 2025) EllapsedTime: 59.4 seconds RetCode: 0 Status: OK