Package: DegNorm Version: 1.16.0 Command: /home/biocbuild/R/R/bin/R CMD build --keep-empty-dirs --no-resave-data DegNorm StartedAt: 2025-02-03 23:05:25 -0000 (Mon, 03 Feb 2025) EndedAt: 2025-02-03 23:11:44 -0000 (Mon, 03 Feb 2025) EllapsedTime: 379.1 seconds RetCode: 0 Status: OK PackageFile: DegNorm_1.16.0.tar.gz PackageFileSize: 3.823 MiB