Package: DegNorm Version: 1.16.0 Command: /home/biocbuild/R/R/bin/R CMD INSTALL DegNorm StartedAt: 2025-02-10 21:00:19 -0000 (Mon, 10 Feb 2025) EndedAt: 2025-02-10 21:01:32 -0000 (Mon, 10 Feb 2025) EllapsedTime: 73.0 seconds RetCode: 0 Status: OK