Package: DelayedArray Version: 0.32.0 Command: rm -rf DelayedArray.buildbin-libdir && mkdir DelayedArray.buildbin-libdir && /Users/biocbuild/BBS/utils/build-universal.sh DelayedArray_0.32.0.tar.gz /Library/Frameworks/R.framework/Resources/bin/R DelayedArray.buildbin-libdir StartedAt: 2024-11-09 16:45:49 -0500 (Sat, 09 Nov 2024) EndedAt: 2024-11-09 16:46:02 -0500 (Sat, 09 Nov 2024) EllapsedTime: 12.2 seconds RetCode: 0 Status: OK PackageFile: DelayedArray_0.32.0.tgz PackageFileSize: 2.454 MiB