Package: DelayedArray Version: 0.32.0 Command: /Library/Frameworks/R.framework/Resources/bin/R CMD build --keep-empty-dirs --no-resave-data DelayedArray StartedAt: 2025-02-03 18:23:14 -0500 (Mon, 03 Feb 2025) EndedAt: 2025-02-03 18:25:40 -0500 (Mon, 03 Feb 2025) EllapsedTime: 145.6 seconds RetCode: 0 Status: OK PackageFile: DelayedArray_0.32.0.tar.gz PackageFileSize: 801.3 KiB