Package: DelayedArray Version: 0.32.0 Command: _R_CHECK_CODETOOLS_PROFILE_="suppressFundefMismatch=TRUE" /Library/Frameworks/R.framework/Resources/bin/R CMD check --install=check:DelayedArray.install-out.txt --library=/Library/Frameworks/R.framework/Resources/library --no-vignettes --timings DelayedArray_0.32.0.tar.gz StartedAt: 2025-01-31 02:46:25 -0500 (Fri, 31 Jan 2025) EndedAt: 2025-01-31 02:54:36 -0500 (Fri, 31 Jan 2025) EllapsedTime: 491.3 seconds RetCode: 0 Status: WARNINGS CheckDir: DelayedArray.Rcheck Warnings: 1