Package: DelayedArray Version: 0.32.0 Command: /home/biocbuild/bbs-3.20-bioc/R/bin/R CMD INSTALL DelayedArray StartedAt: 2025-02-03 15:18:02 -0500 (Mon, 03 Feb 2025) EndedAt: 2025-02-03 15:18:45 -0500 (Mon, 03 Feb 2025) EllapsedTime: 43.2 seconds RetCode: 0 Status: OK