Package: DelayedArray Version: 0.32.0 Command: _R_CHECK_CODETOOLS_PROFILE_="suppressFundefMismatch=TRUE" /home/biocbuild/R/R/bin/R CMD check --install=check:DelayedArray.install-out.txt --library=/home/biocbuild/R/R/site-library --no-vignettes --timings DelayedArray_0.32.0.tar.gz StartedAt: 2025-01-31 05:32:12 -0000 (Fri, 31 Jan 2025) EndedAt: 2025-01-31 06:04:21 -0000 (Fri, 31 Jan 2025) EllapsedTime: 1928.8 seconds RetCode: 0 Status: WARNINGS CheckDir: DelayedArray.Rcheck Warnings: 1