Package: DelayedMatrixStats Version: 1.28.1 Command: /Library/Frameworks/R.framework/Resources/bin/R CMD check --install=check:DelayedMatrixStats.install-out.txt --library=/Library/Frameworks/R.framework/Resources/library --no-vignettes --timings DelayedMatrixStats_1.28.1.tar.gz StartedAt: 2025-02-11 17:19:10 -0500 (Tue, 11 Feb 2025) EndedAt: 2025-02-11 17:24:15 -0500 (Tue, 11 Feb 2025) EllapsedTime: 304.7 seconds RetCode: 0 Status: OK CheckDir: DelayedMatrixStats.Rcheck Warnings: 0