Package: DelayedMatrixStats Version: 1.28.1 Command: rm -rf DelayedMatrixStats.buildbin-libdir && mkdir DelayedMatrixStats.buildbin-libdir && /Users/biocbuild/BBS/utils/build-universal.sh DelayedMatrixStats_1.28.1.tar.gz /Library/Frameworks/R.framework/Resources/bin/R DelayedMatrixStats.buildbin-libdir StartedAt: 2025-02-04 12:48:19 -0500 (Tue, 04 Feb 2025) EndedAt: 2025-02-04 12:49:10 -0500 (Tue, 04 Feb 2025) EllapsedTime: 51.4 seconds RetCode: 0 Status: OK PackageFile: DelayedMatrixStats_1.28.1.tgz PackageFileSize: 720.9 KiB