Package: DelayedMatrixStats Version: 1.28.1 Command: /home/biocbuild/bbs-3.20-bioc/R/bin/R CMD build --keep-empty-dirs --no-resave-data --md5 DelayedMatrixStats StartedAt: 2025-02-10 17:00:56 -0500 (Mon, 10 Feb 2025) EndedAt: 2025-02-10 17:05:12 -0500 (Mon, 10 Feb 2025) EllapsedTime: 255.3 seconds RetCode: 0 Status: OK PackageFile: DelayedMatrixStats_1.28.1.tar.gz PackageFileSize: 267.9 KiB