Package: DelayedMatrixStats Version: 1.28.1 Command: /home/biocbuild/bbs-3.20-bioc/R/bin/R CMD check --install=check:DelayedMatrixStats.install-out.txt --library=/home/biocbuild/bbs-3.20-bioc/R/site-library --timings DelayedMatrixStats_1.28.1.tar.gz StartedAt: 2025-02-10 21:32:51 -0500 (Mon, 10 Feb 2025) EndedAt: 2025-02-10 21:41:38 -0500 (Mon, 10 Feb 2025) EllapsedTime: 527.5 seconds RetCode: 0 Status: OK CheckDir: DelayedMatrixStats.Rcheck Warnings: 0