Package: DelayedMatrixStats Version: 1.28.1 Command: F:\biocbuild\bbs-3.20-bioc\R\bin\R.exe CMD INSTALL DelayedMatrixStats StartedAt: 2025-02-03 16:05:59 -0500 (Mon, 03 Feb 2025) EndedAt: 2025-02-03 16:09:48 -0500 (Mon, 03 Feb 2025) EllapsedTime: 228.5 seconds RetCode: 0 Status: OK