Package: DelayedMatrixStats Version: 1.28.1 Command: /home/biocbuild/R/R/bin/R CMD check --install=check:DelayedMatrixStats.install-out.txt --library=/home/biocbuild/R/R/site-library --no-vignettes --timings DelayedMatrixStats_1.28.1.tar.gz StartedAt: 2025-02-11 05:30:40 -0000 (Tue, 11 Feb 2025) EndedAt: 2025-02-11 05:36:52 -0000 (Tue, 11 Feb 2025) EllapsedTime: 371.3 seconds RetCode: 0 Status: OK CheckDir: DelayedMatrixStats.Rcheck Warnings: 0