Package: DelayedRandomArray Version: 1.14.0 Command: /home/biocbuild/bbs-3.20-bioc/R/bin/R CMD build --keep-empty-dirs --no-resave-data --md5 DelayedRandomArray StartedAt: 2025-02-03 17:08:23 -0500 (Mon, 03 Feb 2025) EndedAt: 2025-02-03 17:09:04 -0500 (Mon, 03 Feb 2025) EllapsedTime: 40.1 seconds RetCode: 0 Status: OK PackageFile: DelayedRandomArray_1.14.0.tar.gz PackageFileSize: 320.2 KiB