Package: DelayedRandomArray Version: 1.14.0 Command: /home/biocbuild/bbs-3.20-bioc/R/bin/R CMD check --install=check:DelayedRandomArray.install-out.txt --library=/home/biocbuild/bbs-3.20-bioc/R/site-library --timings DelayedRandomArray_1.14.0.tar.gz StartedAt: 2025-02-03 21:41:39 -0500 (Mon, 03 Feb 2025) EndedAt: 2025-02-03 21:43:51 -0500 (Mon, 03 Feb 2025) EllapsedTime: 132.1 seconds RetCode: 0 Status: OK CheckDir: DelayedRandomArray.Rcheck Warnings: 0