Package: DelayedRandomArray Version: 1.14.0 Command: rm -rf DelayedRandomArray.buildbin-libdir && mkdir DelayedRandomArray.buildbin-libdir && F:\biocbuild\bbs-3.20-bioc\R\bin\R.exe CMD INSTALL --build --library=DelayedRandomArray.buildbin-libdir DelayedRandomArray_1.14.0.tar.gz StartedAt: 2025-02-04 08:21:13 -0500 (Tue, 04 Feb 2025) EndedAt: 2025-02-04 08:23:52 -0500 (Tue, 04 Feb 2025) EllapsedTime: 158.5 seconds RetCode: 0 Status: OK PackageFile: DelayedRandomArray_1.14.0.zip PackageFileSize: 986.1 KiB