Package: DelayedRandomArray Version: 1.14.0 Command: F:\biocbuild\bbs-3.20-bioc\R\bin\R.exe CMD check --no-multiarch --install=check:DelayedRandomArray.install-out.txt --library=F:\biocbuild\bbs-3.20-bioc\R\library --no-vignettes --timings DelayedRandomArray_1.14.0.tar.gz StartedAt: 2025-02-04 01:04:17 -0500 (Tue, 04 Feb 2025) EndedAt: 2025-02-04 01:07:25 -0500 (Tue, 04 Feb 2025) EllapsedTime: 187.8 seconds RetCode: 0 Status: OK CheckDir: DelayedRandomArray.Rcheck Warnings: 0