Package: DelayedRandomArray Version: 1.14.0 Command: /home/biocbuild/R/R/bin/R CMD build --keep-empty-dirs --no-resave-data DelayedRandomArray StartedAt: 2025-02-10 22:54:24 -0000 (Mon, 10 Feb 2025) EndedAt: 2025-02-10 22:55:18 -0000 (Mon, 10 Feb 2025) EllapsedTime: 54.0 seconds RetCode: 0 Status: OK PackageFile: DelayedRandomArray_1.14.0.tar.gz PackageFileSize: 385.3 KiB