Package: DelayedRandomArray Version: 1.14.0 Command: /home/biocbuild/R/R/bin/R CMD check --install=check:DelayedRandomArray.install-out.txt --library=/home/biocbuild/R/R/site-library --no-vignettes --timings DelayedRandomArray_1.14.0.tar.gz StartedAt: 2025-02-11 05:30:50 -0000 (Tue, 11 Feb 2025) EndedAt: 2025-02-11 05:34:16 -0000 (Tue, 11 Feb 2025) EllapsedTime: 205.2 seconds RetCode: 0 Status: OK CheckDir: DelayedRandomArray.Rcheck Warnings: 0