Package: DelayedTensor Version: 1.12.0 Command: /Library/Frameworks/R.framework/Resources/bin/R CMD build --keep-empty-dirs --no-resave-data DelayedTensor StartedAt: 2025-01-30 22:20:34 -0500 (Thu, 30 Jan 2025) EndedAt: 2025-01-30 22:22:53 -0500 (Thu, 30 Jan 2025) EllapsedTime: 139.0 seconds RetCode: 0 Status: OK PackageFile: DelayedTensor_1.12.0.tar.gz PackageFileSize: 4.128 MiB