Package: DelayedTensor Version: 1.12.0 Command: /Library/Frameworks/R.framework/Resources/bin/R CMD check --install=check:DelayedTensor.install-out.txt --library=/Library/Frameworks/R.framework/Resources/library --no-vignettes --timings DelayedTensor_1.12.0.tar.gz StartedAt: 2025-02-04 17:39:32 -0500 (Tue, 04 Feb 2025) EndedAt: 2025-02-04 17:45:28 -0500 (Tue, 04 Feb 2025) EllapsedTime: 356.2 seconds RetCode: 0 Status: WARNINGS CheckDir: DelayedTensor.Rcheck Warnings: 1