Package: DelayedTensor Version: 1.12.0 Command: /Library/Frameworks/R.framework/Resources/bin/R CMD INSTALL DelayedTensor StartedAt: 2025-01-30 17:53:50 -0500 (Thu, 30 Jan 2025) EndedAt: 2025-01-30 17:54:27 -0500 (Thu, 30 Jan 2025) EllapsedTime: 37.0 seconds RetCode: 0 Status: OK