Package: DelayedTensor Version: 1.12.0 Command: rm -rf DelayedTensor.buildbin-libdir && mkdir DelayedTensor.buildbin-libdir && /Users/biocbuild/BBS/utils/build-universal.sh DelayedTensor_1.12.0.tar.gz /Library/Frameworks/R.framework/Resources/bin/R DelayedTensor.buildbin-libdir StartedAt: 2025-01-31 12:40:01 -0500 (Fri, 31 Jan 2025) EndedAt: 2025-01-31 12:41:02 -0500 (Fri, 31 Jan 2025) EllapsedTime: 61.6 seconds RetCode: 0 Status: OK PackageFile: DelayedTensor_1.12.0.tgz PackageFileSize: 3.09 MiB