Package: DelayedTensor Version: 1.12.0 Command: /Library/Frameworks/R.framework/Resources/bin/R CMD check --install=check:DelayedTensor.install-out.txt --library=/Library/Frameworks/R.framework/Resources/library --no-vignettes --timings DelayedTensor_1.12.0.tar.gz StartedAt: 2025-02-04 02:30:51 -0500 (Tue, 04 Feb 2025) EndedAt: 2025-02-04 02:47:11 -0500 (Tue, 04 Feb 2025) EllapsedTime: 979.6 seconds RetCode: 0 Status: WARNINGS CheckDir: DelayedTensor.Rcheck Warnings: 1