Package: DelayedTensor Version: 1.12.0 Command: /Library/Frameworks/R.framework/Resources/bin/R CMD INSTALL DelayedTensor StartedAt: 2025-02-03 16:35:21 -0500 (Mon, 03 Feb 2025) EndedAt: 2025-02-03 16:36:20 -0500 (Mon, 03 Feb 2025) EllapsedTime: 58.9 seconds RetCode: 0 Status: OK