Package: DelayedTensor Version: 1.12.0 Command: rm -rf DelayedTensor.buildbin-libdir && mkdir DelayedTensor.buildbin-libdir && F:\biocbuild\bbs-3.20-bioc\R\bin\R.exe CMD INSTALL --build --library=DelayedTensor.buildbin-libdir DelayedTensor_1.12.0.tar.gz StartedAt: 2025-01-31 08:31:17 -0500 (Fri, 31 Jan 2025) EndedAt: 2025-01-31 08:32:40 -0500 (Fri, 31 Jan 2025) EllapsedTime: 82.7 seconds RetCode: 0 Status: OK PackageFile: DelayedTensor_1.12.0.zip PackageFileSize: 3.103 MiB