Package: DelayedTensor Version: 1.12.0 Command: chmod a+r DelayedTensor -R && F:\biocbuild\bbs-3.20-bioc\R\bin\R.exe CMD build --keep-empty-dirs --no-resave-data DelayedTensor StartedAt: 2025-02-03 18:36:38 -0500 (Mon, 03 Feb 2025) EndedAt: 2025-02-03 18:42:43 -0500 (Mon, 03 Feb 2025) EllapsedTime: 365.2 seconds RetCode: 0 Status: OK PackageFile: DelayedTensor_1.12.0.tar.gz PackageFileSize: 4.129 MiB