Package: DelayedTensor Version: 1.12.0 Command: /home/biocbuild/R/R/bin/R CMD build --keep-empty-dirs --no-resave-data DelayedTensor StartedAt: 2025-02-03 23:06:49 -0000 (Mon, 03 Feb 2025) EndedAt: 2025-02-03 23:11:51 -0000 (Mon, 03 Feb 2025) EllapsedTime: 302.1 seconds RetCode: 0 Status: OK PackageFile: DelayedTensor_1.12.0.tar.gz PackageFileSize: 4.385 MiB