Package: DelayedTensor Version: 1.12.0 Command: /home/biocbuild/R/R/bin/R CMD check --install=check:DelayedTensor.install-out.txt --library=/home/biocbuild/R/R/site-library --no-vignettes --timings DelayedTensor_1.12.0.tar.gz StartedAt: 2025-02-04 06:18:31 -0000 (Tue, 04 Feb 2025) EndedAt: 2025-02-04 06:26:26 -0000 (Tue, 04 Feb 2025) EllapsedTime: 474.6 seconds RetCode: 0 Status: WARNINGS CheckDir: DelayedTensor.Rcheck Warnings: 1