Package: DelayedTensor Version: 1.12.0 Command: /home/biocbuild/R/R/bin/R CMD INSTALL DelayedTensor StartedAt: 2025-02-03 21:15:31 -0000 (Mon, 03 Feb 2025) EndedAt: 2025-02-03 21:16:04 -0000 (Mon, 03 Feb 2025) EllapsedTime: 33.2 seconds RetCode: 0 Status: OK