Package: DepecheR Version: 1.22.0 Command: /Library/Frameworks/R.framework/Resources/bin/R CMD check --install=check:DepecheR.install-out.txt --library=/Library/Frameworks/R.framework/Resources/library --no-vignettes --timings DepecheR_1.22.0.tar.gz StartedAt: 2025-01-31 17:17:55 -0500 (Fri, 31 Jan 2025) EndedAt: 2025-01-31 17:19:59 -0500 (Fri, 31 Jan 2025) EllapsedTime: 124.2 seconds RetCode: 0 Status: OK CheckDir: DepecheR.Rcheck Warnings: 0