Package: DepecheR Version: 1.22.0 Command: /home/biocbuild/R/R/bin/R CMD check --install=check:DepecheR.install-out.txt --library=/home/biocbuild/R/R/site-library --no-vignettes --timings DepecheR_1.22.0.tar.gz StartedAt: 2024-11-20 07:07:04 -0000 (Wed, 20 Nov 2024) EndedAt: 2024-11-20 07:09:46 -0000 (Wed, 20 Nov 2024) EllapsedTime: 162.3 seconds RetCode: 0 Status: WARNINGS CheckDir: DepecheR.Rcheck Warnings: 1