Package: DepecheR Version: 1.22.0 Command: /home/biocbuild/bbs-3.20-bioc/R/bin/R CMD check --install=check:DepecheR.install-out.txt --library=/home/biocbuild/bbs-3.20-bioc/R/site-library --timings DepecheR_1.22.0.tar.gz StartedAt: 2025-02-03 21:45:10 -0500 (Mon, 03 Feb 2025) EndedAt: 2025-02-03 21:47:59 -0500 (Mon, 03 Feb 2025) EllapsedTime: 169.2 seconds RetCode: 0 Status: OK CheckDir: DepecheR.Rcheck Warnings: 0