Package: DifferentialRegulation Version: 2.4.0 Command: /Library/Frameworks/R.framework/Resources/bin/R CMD check --install=check:DifferentialRegulation.install-out.txt --library=/Library/Frameworks/R.framework/Resources/library --no-vignettes --timings DifferentialRegulation_2.4.0.tar.gz StartedAt: 2025-01-31 17:36:20 -0500 (Fri, 31 Jan 2025) EndedAt: 2025-01-31 17:42:26 -0500 (Fri, 31 Jan 2025) EllapsedTime: 366.4 seconds RetCode: 0 Status: OK CheckDir: DifferentialRegulation.Rcheck Warnings: 0