Package: DifferentialRegulation Version: 2.4.0 Command: /Library/Frameworks/R.framework/Resources/bin/R CMD INSTALL DifferentialRegulation StartedAt: 2025-01-30 16:20:34 -0500 (Thu, 30 Jan 2025) EndedAt: 2025-01-30 16:21:27 -0500 (Thu, 30 Jan 2025) EllapsedTime: 53.4 seconds RetCode: 0 Status: OK