Package: DifferentialRegulation Version: 2.4.0 Command: rm -rf DifferentialRegulation.buildbin-libdir && mkdir DifferentialRegulation.buildbin-libdir && /Users/biocbuild/BBS/utils/build-universal.sh DifferentialRegulation_2.4.0.tar.gz /Library/Frameworks/R.framework/Resources/bin/R DifferentialRegulation.buildbin-libdir StartedAt: 2025-01-31 12:41:22 -0500 (Fri, 31 Jan 2025) EndedAt: 2025-01-31 12:43:10 -0500 (Fri, 31 Jan 2025) EllapsedTime: 108.0 seconds RetCode: 0 Status: OK PackageFile: DifferentialRegulation_2.4.0.tgz PackageFileSize: 2.957 MiB