Package: DifferentialRegulation Version: 2.4.0 Command: /Library/Frameworks/R.framework/Resources/bin/R CMD build --keep-empty-dirs --no-resave-data DifferentialRegulation StartedAt: 2025-01-30 18:39:30 -0500 (Thu, 30 Jan 2025) EndedAt: 2025-01-30 18:48:39 -0500 (Thu, 30 Jan 2025) EllapsedTime: 549.1 seconds RetCode: 0 Status: OK PackageFile: DifferentialRegulation_2.4.0.tar.gz PackageFileSize: 2.805 MiB