Package: DifferentialRegulation Version: 2.4.0 Command: /Library/Frameworks/R.framework/Resources/bin/R CMD INSTALL DifferentialRegulation StartedAt: 2025-01-30 15:48:16 -0500 (Thu, 30 Jan 2025) EndedAt: 2025-01-30 15:49:58 -0500 (Thu, 30 Jan 2025) EllapsedTime: 101.4 seconds RetCode: 0 Status: OK