Package: DifferentialRegulation Version: 2.4.0 Command: F:\biocbuild\bbs-3.20-bioc\R\bin\R.exe CMD INSTALL DifferentialRegulation StartedAt: 2025-01-30 16:02:52 -0500 (Thu, 30 Jan 2025) EndedAt: 2025-01-30 16:04:24 -0500 (Thu, 30 Jan 2025) EllapsedTime: 92.0 seconds RetCode: 0 Status: OK