Package: Dino Version: 1.12.0 Command: /Library/Frameworks/R.framework/Resources/bin/R CMD build --keep-empty-dirs --no-resave-data Dino StartedAt: 2025-01-30 22:44:02 -0500 (Thu, 30 Jan 2025) EndedAt: 2025-01-30 22:46:04 -0500 (Thu, 30 Jan 2025) EllapsedTime: 121.4 seconds RetCode: 0 Status: OK PackageFile: Dino_1.12.0.tar.gz PackageFileSize: 1.528 MiB