Package: Dino Version: 1.12.0 Command: /Library/Frameworks/R.framework/Resources/bin/R CMD INSTALL Dino StartedAt: 2025-02-03 17:47:31 -0500 (Mon, 03 Feb 2025) EndedAt: 2025-02-03 17:48:17 -0500 (Mon, 03 Feb 2025) EllapsedTime: 45.5 seconds RetCode: 0 Status: OK